BEGIN:VCALENDAR
VERSION:2.0
PRODID:DorCo
X-WR-CALNAME:Music In The Woods- Spring Jam Kickoff
BEGIN:VEVENT
UID:349752026-05-16
DTSTART:20260516T190000Z
SEQUENCE:0
TRANSP:OPAQUE
DTEND:20260516T230000Z
LOCATION:5221 Aireys Rd\nCambridge MD 21613
X-APPLE-STRUCTURED-LOCATION;VALUE=URI;X-ADDRESS=5221 Aireys Rd\nCambridge M
 D 21613;X-APPLE-RADIUS=49;X-TITLE=5221 Aireys Rd:geo:38.540471,-76.000233
GEO:38.540471;-76.000233
SUMMARY:Music In The Woods- Spring Jam Kickoff
CLASS:PUBLIC
DESCRIPTION:Join Cedar Meadows Rod & Gun Club (CMRGC) for a spring afternoo
 n\nfilled with live music\, dancing\, complimentary wine\, amazing food\,\
 nvendors\, and cash prize drawings. Tickets cost $35 per person. On the\ng
 rounds of the clubhouse\, 5221 Aireys Rd.\, Cambridge\, MD. \n
X-ALT-DESC;FMTTYPE=text/html:<p>Join Cedar Meadows Rod &amp\; Gun Club (CMR
 GC) for a spring afternoon filled with  live music\, dancing\,  compliment
 ary wine\, amazing food\,  vendors\,  and cash prize drawings. Tickets cos
 t $35 per person. On the grounds of the clubhouse\, 5221 Aireys Rd.\, Camb
 ridge\, MD.&nbsp\;</p>
DTSTAMP:20260425T133919Z
END:VEVENT
END:VCALENDAR