BEGIN:VCALENDAR
VERSION:2.0
PRODID:DorCo
X-WR-CALNAME:Mother's Day Event at Simmons Center Market
BEGIN:VEVENT
UID:351222026-05-09
DTSTART:20260509T130000Z
SEQUENCE:0
TRANSP:OPAQUE
DTEND:20260509T190000Z
LOCATION:600 Race Street\nCambridge Maryland 21613
X-APPLE-STRUCTURED-LOCATION;VALUE=URI;X-ADDRESS=600 Race Street\nCambridge 
 Maryland 21613;X-APPLE-RADIUS=49;X-TITLE=600 Race Street:geo:38.566943,-76
 .077547
GEO:38.566943;-76.077547
SUMMARY:Mother's Day Event at Simmons Center Market
CLASS:PUBLIC
DESCRIPTION:Simmons Center Market hosts a Mother's Day event with food and 
 drink\nvendors and live steel drum music on May 9 from 9am to 3pm. Bring a
 \nchair and stay a while\, relaxing in a setting of palm trees\, beautiful
 \nflowers\, and tropical music. \n \n
X-ALT-DESC;FMTTYPE=text/html:<p>Simmons Center Market hosts a Mother&#39\;s
  Day event with food and drink vendors and live steel drum music on May 9 
 from 9am to 3pm. Bring a chair and stay a while\, relaxing in a setting of
  palm trees\, beautiful flowers\, and tropical music.&nbsp\;<br />\n&nbsp\
 ;</p>
DTSTAMP:20260425T134650Z
END:VEVENT
END:VCALENDAR