BEGIN:VCALENDAR
VERSION:2.0
PRODID:DorCo
X-WR-CALNAME:Mother’s Day Brunch
BEGIN:VEVENT
UID:349732026-05-10
DTSTART:20260510T150000Z
SEQUENCE:0
TRANSP:OPAQUE
DTEND:20260510T190000Z
LOCATION:411 Dorchester Ave\nCambridge MD 21613
X-APPLE-STRUCTURED-LOCATION;VALUE=URI;X-ADDRESS=411 Dorchester Ave\nCambrid
 ge MD 21613;X-APPLE-RADIUS=49;X-TITLE=411 Dorchester Ave:geo:38.562083,-76
 .067927
GEO:38.562083;-76.067927
SUMMARY:Mother’s Day Brunch
CLASS:PUBLIC
DESCRIPTION:Join Bayside Bistro for a Mother’s Day Brunch! A 4-course bru
 nch\ncurated by Chef Aaron Powley. Celebrate the mother in your life with\
 nthis special event filled with intention. Bayside Bistro is not a\ntradit
 ional restaurant\, but is based out of the Packing House in\nCambridge. \
 n\n
X-ALT-DESC;FMTTYPE=text/html:<div>Join Bayside Bistro for a Mother’s Day 
 Brunch! A 4-course brunch curated by Chef Aaron Powley. Celebrate the moth
 er in your life with this special event filled with intention. Bayside Bis
 tro is not a traditional restaurant\, but is based out of the Packing Hous
 e in Cambridge.&nbsp\;</div><p> </p>
DTSTAMP:20260425T134502Z
END:VEVENT
END:VCALENDAR