BEGIN:VCALENDAR
VERSION:2.0
PRODID:DorCo
X-WR-CALNAME:Maryland Freedom Swim
BEGIN:VEVENT
UID:351212026-05-02
DTSTART:20260502T120000Z
SEQUENCE:0
TRANSP:OPAQUE
DTEND:20260502T040000Z
LOCATION:200 Byrn Street\nCambridge Maryland 21613
X-APPLE-STRUCTURED-LOCATION;VALUE=URI;X-ADDRESS=200 Byrn Street\nCambridge 
 Maryland 21613;X-APPLE-RADIUS=49;X-TITLE=200 Byrn Street:geo:38.571572,-76
 .064104
GEO:38.571572;-76.064104
SUMMARY:Maryland Freedom Swim
CLASS:PUBLIC
DESCRIPTION:Watch experienced swimmers swim across the 2-mile Choptank Rive
 r\, from\nTalbot County to Sailwinds Park in Cambridge on the Dorchester C
 ounty\nside. This 2-mile trip across the Choptank River and will be suppor
 ted\nby paddle craft\, motor craft and the US Coast Guard. Volunteers need
 ed\n– SIGN UP HERE [https://runsignup.com/MarylandFreedomSwim]. \n
X-ALT-DESC;FMTTYPE=text/html:<p>Watch experienced swimmers swim across the 
 2-mile Choptank River\, from Talbot County to Sailwinds Park in Cambridge 
 on the Dorchester County side. This 2-mile trip across the Choptank River 
 and will be supported by paddle craft\, motor craft and the US Coast Guard
 . Volunteers needed &ndash\; <a href=\"https://runsignup.com/MarylandFreed
 omSwim\" target=\"_blank\"><strong>sign up here</strong></a>.&nbsp\;</p>
DTSTAMP:20260425T134624Z
END:VEVENT
END:VCALENDAR