BEGIN:VCALENDAR
VERSION:2.0
PRODID:DorCo
X-WR-CALNAME:First Day Hike: Harriet Tubman Country
BEGIN:VEVENT
UID:340532026-01-01
DTSTART:20260101T150000Z
SEQUENCE:0
TRANSP:OPAQUE
DTEND:20260101T163000Z
LOCATION:4068 Golden Hill Rd\, Church Creek\, MD 21622\, USA\n  
X-APPLE-STRUCTURED-LOCATION;VALUE=URI;X-ADDRESS="4068 Golden Hill Rd, Churc
 h Creek, MD 21622, USA\n  ";X-APPLE-RADIUS=49;X-TITLE="4068 Golden Hill Rd
 , Church Creek, MD 21622, USA":geo:38.450099,-76.137581
GEO:38.450099;-76.137581
SUMMARY:First Day Hike: Harriet Tubman Country
CLASS:PUBLIC
DESCRIPTION:Join Park Rangers at Harriet Tubman Underground Railroad State 
 Park\nand Visitor Center in Church Creek\, MD to begin a 2.5-mile flat and
 \npaved hike into the Blackwater National Wildlife Refuge on their\nWildli
 fe Drive. Walk along the Blackwater River and immerse yourself\nin the bea
 utiful landscape that helped shape Harriet Tubman. All are\nwelcome. Strol
 ler and wheelchair accessible. NO PETS per Blackwater\nNational Wildlife R
 efuge regulations. Dress for the weather.\nBinoculars are encouraged. Rest
 rooms located in the Harriet Tubman\nUnderground Railroad Visitor Center. 
 Located at 4068 Golden Hill Rd\nChurch Creek\, MD 27622 .
X-ALT-DESC;FMTTYPE=text/html:Join Park Rangers at Harriet Tubman Undergroun
 d Railroad State Park and Visitor Center in Church Creek\, MD to begin a 2
 .5-mile flat and paved hike into the Blackwater National Wildlife Refuge o
 n their Wildlife Drive. Walk along the Blackwater River and immerse yourse
 lf in the beautiful landscape that helped shape Harriet Tubman. All are we
 lcome. Stroller and wheelchair accessible. NO PETS per Blackwater National
  Wildlife Refuge regulations. Dress for the weather. Binoculars are encour
 aged. Restrooms located in the Harriet Tubman Underground Railroad Visitor
  Center. Located at  4068 Golden Hill Rd Church Creek\, MD 27622 .\n
DTSTAMP:20260421T081622Z
END:VEVENT
END:VCALENDAR