BEGIN:VCALENDAR
VERSION:2.0
PRODID:DorCo
X-WR-CALNAME:Cambridge Crab Run
BEGIN:VEVENT
UID:344732026-05-10
DTSTART:20260510T113000Z
SEQUENCE:0
TRANSP:OPAQUE
DTEND:20260510T150000Z
LOCATION:Somerset Ave\nCambridge MD 21613
X-APPLE-STRUCTURED-LOCATION;VALUE=URI;X-ADDRESS=Somerset Ave\nCambridge MD 
 21613;X-APPLE-RADIUS=49;X-TITLE=Somerset Ave:geo:38.583634,-76.078966
GEO:38.583634;-76.078966
SUMMARY:Cambridge Crab Run
CLASS:PUBLIC
DESCRIPTION:The Crab Run consists of a half marathon (13.1 miles) immediate
 ly\nfollowed by a 5k (3.1 miles) run\, all from the grounds of Gerry Boyle
 \nPark at Great Marsh\, located at 0 Somerset Avenue\, Cambridge\,\nMaryla
 nd. Our half marathon follows the same course as the IRONMAN\nEagleman tri
 athlon in June\, a perfect opportunity for a preview of the\ncourse in coo
 ler temperatures. \n\nThis race takes you past the Choptank River at the s
 tart before\nrolling out to the country roads of Dorchester County. \n\nIf
  you are looking for a challenge\, why not sign up for the KING CRAB\nchal
 lenge? You must complete the half marathon in under 2 hours to\nmake it in
  time for the start of the 5k. Do you have what it takes to\nmake the time
  cut?\n
X-ALT-DESC;FMTTYPE=text/html:<p>The Crab Run consists of a half marathon (1
 3.1 miles) immediately followed by a 5k (3.1 miles) run\, all from the gro
 unds of Gerry Boyle Park at Great Marsh\, located at 0 Somerset Avenue\, C
 ambridge\, Maryland. Our half marathon follows the same course as the IRON
 MAN Eagleman triathlon in June\, a perfect opportunity for a preview of th
 e course in cooler temperatures. <br><br>This race takes you past the Chop
 tank River at the start before rolling out to the country roads of Dorches
 ter County. <br><br>If you are looking for a challenge\, why not sign up f
 or the KING CRAB challenge? You must complete the half marathon in under 2
  hours to make it in time for the start of the 5k. Do you have what it tak
 es to make the time cut?</p>
DTSTAMP:20260424T191149Z
END:VEVENT
END:VCALENDAR